BEGIN:VCALENDAR
VERSION:2.0
PRODID:-//Rovaniemen seudun Perhokalastajat ry - ECPv6.0.9//NONSGML v1.0//EN
CALSCALE:GREGORIAN
METHOD:PUBLISH
X-WR-CALNAME:Rovaniemen seudun Perhokalastajat ry
X-ORIGINAL-URL:https://www.rovaseudunperho.net
X-WR-CALDESC:Tapahtumat Rovaniemen seudun Perhokalastajat ry
REFRESH-INTERVAL;VALUE=DURATION:PT1H
X-Robots-Tag:noindex
X-PUBLISHED-TTL:PT1H
BEGIN:VTIMEZONE
TZID:Europe/Helsinki
BEGIN:DAYLIGHT
TZOFFSETFROM:+0200
TZOFFSETTO:+0300
TZNAME:EEST
DTSTART:20260329T010000
END:DAYLIGHT
BEGIN:STANDARD
TZOFFSETFROM:+0300
TZOFFSETTO:+0200
TZNAME:EET
DTSTART:20261025T010000
END:STANDARD
END:VTIMEZONE
BEGIN:VEVENT
DTSTART;TZID=Europe/Helsinki:20260422T180000
DTEND;TZID=Europe/Helsinki:20260422T200000
DTSTAMP:20260424T111050
CREATED:20260116T173031Z
LAST-MODIFIED:20260411T075901Z
UID:4227-1776880800-1776888000@www.rovaseudunperho.net
SUMMARY:Perhonsidontaa\, simppelit kalastavat sidokset sekä kalapaikkaesittely\, Markku Saukko ja Mikko Jurvansuu
DESCRIPTION:
URL:https://www.rovaseudunperho.net/tapahtuma/perhonsidontaa-simppelit-kalastavat-sidokset-lisaksi-mahdollinen-kalapaikkaesittely/
LOCATION:Lyseonpuiston lukio\, Ruokasenkatu 18\, Rovaniemi\, 96200\, Suomi
END:VEVENT
END:VCALENDAR